BEGIN:VCALENDAR
VERSION:2.0
PRODID:-//Bradeur.fr//FR
CALSCALE:GREGORIAN
METHOD:PUBLISH
BEGIN:VEVENT
UID:647-cyclo-club-de-grenay-puces@bradeur.fr
DTSTAMP:20260425T220700Z
DTSTART:20260411T070000
DTEND:20260411T170000
SUMMARY:Cyclo Club de Grenay — Puces
DESCRIPTION:Samedi 11 Avril 2026\nde 7h00 à 17h00\n\nCyclo Club de Grenay\
 n62160 Grenay
LOCATION:62160 Grenay
URL:https://bradeur.fr/braderie.php?slug=cyclo-club-de-grenay-puces
END:VEVENT
END:VCALENDAR
