BEGIN:VCALENDAR
VERSION:2.0
PRODID:-//Bradeur.fr//FR
CALSCALE:GREGORIAN
METHOD:PUBLISH
BEGIN:VEVENT
UID:569-d-aniche-brocante@bradeur.fr
DTSTAMP:20260425T180123Z
DTSTART:20260329T090000
DTEND:20260329T150000
SUMMARY:d'Aniche — Brocante
DESCRIPTION:Dimanche 29 Mars 2026\nde 9h00 à 15h00\n\nd'Aniche\n59580 Anic
 he
LOCATION:59580 Aniche
URL:https://bradeur.fr/braderie.php?slug=d-aniche-brocante
END:VEVENT
END:VCALENDAR
