BEGIN:VCALENDAR
VERSION:2.0
PRODID:-//Bradeur.fr//FR
CALSCALE:GREGORIAN
METHOD:PUBLISH
BEGIN:VEVENT
UID:982-d-aniche-brocante-1@bradeur.fr
DTSTAMP:20260425T235148Z
DTSTART:20260627T080000
DTEND:20260627T140000
SUMMARY:d'Aniche — Brocante
DESCRIPTION:Samedi 27 Juin 2026\nde 8h00 à 14h00\n\nd'Aniche\n59580 Aniche
LOCATION:59580 Aniche
URL:https://bradeur.fr/braderie.php?slug=d-aniche-brocante-1
END:VEVENT
END:VCALENDAR
