BEGIN:VCALENDAR
VERSION:2.0
PRODID:-//Bradeur.fr//FR
CALSCALE:GREGORIAN
METHOD:PUBLISH
BEGIN:VEVENT
UID:1090-d-aniche-brocante-2@bradeur.fr
DTSTAMP:20260425T204715Z
DTSTART:20260927T090000
DTEND:20260927T150000
SUMMARY:d'Aniche — Brocante
DESCRIPTION:Dimanche 27 Septembre 2026\nde 9h00 à 15h00\n\nd'Aniche\n59580
  Aniche
LOCATION:59580 Aniche
URL:https://bradeur.fr/braderie.php?slug=d-aniche-brocante-2
END:VEVENT
END:VCALENDAR
