BEGIN:VCALENDAR
VERSION:2.0
PRODID:-//Bradeur.fr//FR
CALSCALE:GREGORIAN
METHOD:PUBLISH
BEGIN:VEVENT
UID:672-d-animation-puces@bradeur.fr
DTSTAMP:20260425T215031Z
DTSTART:20260412T090000
DTEND:20260412T180000
SUMMARY:d'Animation — Puces
DESCRIPTION:Dimanche 12 Avril 2026\nde 9h00 à 18h00\n\nd'Animation\n62700 
 Bruay La Buissière
LOCATION:62700 Bruay La Buissière
URL:https://bradeur.fr/braderie.php?slug=d-animation-puces
END:VEVENT
END:VCALENDAR
