BEGIN:VCALENDAR
VERSION:2.0
PRODID:-//Bradeur.fr//FR
CALSCALE:GREGORIAN
METHOD:PUBLISH
BEGIN:VEVENT
UID:1040-d-animation-puces-2@bradeur.fr
DTSTAMP:20260425T214124Z
DTSTART:20260809T090000
DTEND:20260809T180000
SUMMARY:d'Animation — Puces
DESCRIPTION:Dimanche 9 Août 2026\nde 9h00 à 18h00\n\nd'Animation\n62700 B
 ruay La Buissière
LOCATION:62700 Bruay La Buissière
URL:https://bradeur.fr/braderie.php?slug=d-animation-puces-2
END:VEVENT
END:VCALENDAR
