BEGIN:VCALENDAR
VERSION:2.0
PRODID:-//Bradeur.fr//FR
CALSCALE:GREGORIAN
METHOD:PUBLISH
BEGIN:VEVENT
UID:1118-d-animation-puces-3@bradeur.fr
DTSTAMP:20260425T175836Z
DTSTART:20261018T090000
DTEND:20261018T180000
SUMMARY:d'Animation — Puces
DESCRIPTION:Dimanche 18 Octobre 2026\nde 9h00 à 18h00\n\nd'Animation\n6270
 0 Bruay La Buissière
LOCATION:62700 Bruay La Buissière
URL:https://bradeur.fr/braderie.php?slug=d-animation-puces-3
END:VEVENT
END:VCALENDAR
