BEGIN:VCALENDAR
VERSION:2.0
PRODID:-//Bradeur.fr//FR
CALSCALE:GREGORIAN
METHOD:PUBLISH
BEGIN:VEVENT
UID:638-d-entraide-braderie@bradeur.fr
DTSTAMP:20260425T175954Z
DTSTART:20260411T080000
DTEND:20260411T180000
SUMMARY:d'Entraide — Braderie
DESCRIPTION:Samedi 11 Avril 2026\nde 8h00 à 18h00\n\nd'Entraide\n59540 Cau
 dry
LOCATION:59540 Caudry
URL:https://bradeur.fr/braderie.php?slug=d-entraide-braderie
END:VEVENT
END:VCALENDAR
