BEGIN:VCALENDAR
VERSION:2.0
PRODID:-//Bradeur.fr//FR
CALSCALE:GREGORIAN
METHOD:PUBLISH
BEGIN:VEVENT
UID:897-d-oisy-le-verger-braderie@bradeur.fr
DTSTAMP:20260425T194125Z
DTSTART:20260524T090000
DTEND:20260524T180000
SUMMARY:d'Oisy le Verger — Braderie
DESCRIPTION:Dimanche 24 Mai 2026\nde 9h00 à 18h00\n\nd'Oisy le Verger\n628
 60 Oisy Le Verger
LOCATION:62860 Oisy Le Verger
URL:https://bradeur.fr/braderie.php?slug=d-oisy-le-verger-braderie
END:VEVENT
END:VCALENDAR
