BEGIN:VCALENDAR
VERSION:2.0
PRODID:-//Bradeur.fr//FR
CALSCALE:GREGORIAN
METHOD:PUBLISH
BEGIN:VEVENT
UID:1104-d-oisy-le-verger-braderie-1@bradeur.fr
DTSTAMP:20260425T180554Z
DTSTART:20261004T100000
DTEND:20261004T170000
SUMMARY:d'Oisy le Verger — Braderie
DESCRIPTION:Dimanche 4 Octobre 2026\nde 10h00 à 17h00\n\nd'Oisy le Verger\
 n62860 Oisy Le Verger
LOCATION:62860 Oisy Le Verger
URL:https://bradeur.fr/braderie.php?slug=d-oisy-le-verger-braderie-1
END:VEVENT
END:VCALENDAR
