BEGIN:VCALENDAR
VERSION:2.0
PRODID:-//Bradeur.fr//FR
CALSCALE:GREGORIAN
METHOD:PUBLISH
BEGIN:VEVENT
UID:932-de-bourbourg-vide-greniers@bradeur.fr
DTSTAMP:20260425T192022Z
DTSTART:20260607T070000
DTEND:20260607T170000
SUMMARY:de Bourbourg — Vide-greniers
DESCRIPTION:Dimanche 7 Juin 2026\nde 7h00 à 17h00\n\nde Bourbourg\n59630 B
 ourbourg
LOCATION:59630 Bourbourg
URL:https://bradeur.fr/braderie.php?slug=de-bourbourg-vide-greniers
END:VEVENT
END:VCALENDAR
