BEGIN:VCALENDAR
VERSION:2.0
PRODID:-//Bradeur.fr//FR
CALSCALE:GREGORIAN
METHOD:PUBLISH
BEGIN:VEVENT
UID:954-de-bourghelles-vide-greniers@bradeur.fr
DTSTAMP:20260425T204226Z
DTSTART:20260614T080000
DTEND:20260614T130000
SUMMARY:de Bourghelles — Vide-greniers
DESCRIPTION:Dimanche 14 Juin 2026\nde 8h00 à 13h00\n\nde Bourghelles\n5983
 0 Bourghelles
LOCATION:59830 Bourghelles
URL:https://bradeur.fr/braderie.php?slug=de-bourghelles-vide-greniers
END:VEVENT
END:VCALENDAR
