BEGIN:VCALENDAR
VERSION:2.0
PRODID:-//Bradeur.fr//FR
CALSCALE:GREGORIAN
METHOD:PUBLISH
BEGIN:VEVENT
UID:594-de-braderie-braderie@bradeur.fr
DTSTAMP:20260425T180005Z
DTSTART:20260404T140000
DTEND:20260404T200000
SUMMARY:de Braderie — Braderie
DESCRIPTION:Samedi 4 Avril 2026\nde 14h00 à 20h00\n\nde Braderie\n59310 Or
 chies
LOCATION:59310 Orchies
URL:https://bradeur.fr/braderie.php?slug=de-braderie-braderie
END:VEVENT
END:VCALENDAR
