BEGIN:VCALENDAR
VERSION:2.0
PRODID:-//Bradeur.fr//FR
CALSCALE:GREGORIAN
METHOD:PUBLISH
BEGIN:VEVENT
UID:1069-de-coordination-brocante@bradeur.fr
DTSTAMP:20260425T175858Z
DTSTART:20260912T070000
DTEND:20260912T140000
SUMMARY:de Coordination — Brocante
DESCRIPTION:Samedi 12 Septembre 2026\nde 7h00 à 14h00\n\nde Coordination\n
 59700 Marcq En Baroeul
LOCATION:59700 Marcq En Baroeul
URL:https://bradeur.fr/braderie.php?slug=de-coordination-brocante
END:VEVENT
END:VCALENDAR
