BEGIN:VCALENDAR
VERSION:2.0
PRODID:-//Bradeur.fr//FR
CALSCALE:GREGORIAN
METHOD:PUBLISH
BEGIN:VEVENT
UID:606-de-flers-en-escrebieux-brocante@bradeur.fr
DTSTAMP:20260425T180717Z
DTSTART:20260405T070000
DTEND:20260405T160000
SUMMARY:de Flers en Escrebieux — Brocante
DESCRIPTION:Dimanche 5 Avril 2026\nde 7h00 à 16h00\n\nde Flers en Escrebie
 ux\n59128 Flers En Escrebieux
LOCATION:59128 Flers En Escrebieux
URL:https://bradeur.fr/braderie.php?slug=de-flers-en-escrebieux-brocante
END:VEVENT
END:VCALENDAR
