BEGIN:VCALENDAR
VERSION:2.0
PRODID:-//Bradeur.fr//FR
CALSCALE:GREGORIAN
METHOD:PUBLISH
BEGIN:VEVENT
UID:543-de-gynastique-puces@bradeur.fr
DTSTAMP:20260425T204413Z
DTSTART:20260328T080000
DTEND:20260328T180000
SUMMARY:de gynastique — Puces
DESCRIPTION:Samedi 28 Mars 2026\nde 8h00 à 18h00\n\nde gynastique\n62700 B
 ruay La Buissière
LOCATION:62700 Bruay La Buissière
URL:https://bradeur.fr/braderie.php?slug=de-gynastique-puces
END:VEVENT
END:VCALENDAR
