BEGIN:VCALENDAR
VERSION:2.0
PRODID:-//Bradeur.fr//FR
CALSCALE:GREGORIAN
METHOD:PUBLISH
BEGIN:VEVENT
UID:563-de-la-fete-brocante@bradeur.fr
DTSTAMP:20260425T180507Z
DTSTART:20260329T070000
DTEND:20260329T160000
SUMMARY:de la Fête — Brocante
DESCRIPTION:Dimanche 29 Mars 2026\nde 7h00 à 16h00\n\nde la Fête\n59283 M
 oncheaux
LOCATION:59283 Moncheaux
URL:https://bradeur.fr/braderie.php?slug=de-la-fete-brocante
END:VEVENT
END:VCALENDAR
