BEGIN:VCALENDAR
VERSION:2.0
PRODID:-//Bradeur.fr//FR
CALSCALE:GREGORIAN
METHOD:PUBLISH
BEGIN:VEVENT
UID:764-de-loffre-brocante@bradeur.fr
DTSTAMP:20260426T022151Z
DTSTART:20260501T070000
DTEND:20260501T140000
SUMMARY:de Loffre — Brocante
DESCRIPTION:Vendredi 1 Mai 2026\nde 7h00 à 14h00\n\nde Loffre\n59182 Loffr
 e
LOCATION:59182 Loffre
URL:https://bradeur.fr/braderie.php?slug=de-loffre-brocante
END:VEVENT
END:VCALENDAR
