BEGIN:VCALENDAR
VERSION:2.0
PRODID:-//Bradeur.fr//FR
CALSCALE:GREGORIAN
METHOD:PUBLISH
BEGIN:VEVENT
UID:913-de-meurchin-vide-greniers@bradeur.fr
DTSTAMP:20260425T204545Z
DTSTART:20260530T070000
DTEND:20260530T170000
SUMMARY:de Meurchin — Vide-greniers
DESCRIPTION:Samedi 30 Mai 2026\nde 7h00 à 17h00\n\nde Meurchin\n62410 Meur
 chin
LOCATION:62410 Meurchin
URL:https://bradeur.fr/braderie.php?slug=de-meurchin-vide-greniers
END:VEVENT
END:VCALENDAR
