BEGIN:VCALENDAR
VERSION:2.0
PRODID:-//Bradeur.fr//FR
CALSCALE:GREGORIAN
METHOD:PUBLISH
BEGIN:VEVENT
UID:970-de-petite-synthe-brocante@bradeur.fr
DTSTAMP:20260426T022627Z
DTSTART:20260620T080000
DTEND:20260620T150000
SUMMARY:de Petite Synthe — Brocante
DESCRIPTION:Samedi 20 Juin 2026\nde 8h00 à 15h00\n\nde Petite Synthe\n5914
 0 Dunkerque
LOCATION:59140 Dunkerque
URL:https://bradeur.fr/braderie.php?slug=de-petite-synthe-brocante
END:VEVENT
END:VCALENDAR
