BEGIN:VCALENDAR
VERSION:2.0
PRODID:-//Bradeur.fr//FR
CALSCALE:GREGORIAN
METHOD:PUBLISH
BEGIN:VEVENT
UID:1022-de-plouvain-brocante@bradeur.fr
DTSTAMP:20260425T215338Z
DTSTART:20260725T090000
DTEND:20260725T170000
SUMMARY:de Plouvain — Brocante
DESCRIPTION:Samedi 25 Juillet 2026\nde 9h00 à 17h00\n\nde Plouvain\n62118 
 Plouvain
LOCATION:62118 Plouvain
URL:https://bradeur.fr/braderie.php?slug=de-plouvain-brocante
END:VEVENT
END:VCALENDAR
