BEGIN:VCALENDAR
VERSION:2.0
PRODID:-//Bradeur.fr//FR
CALSCALE:GREGORIAN
METHOD:PUBLISH
BEGIN:VEVENT
UID:720-de-wimereux-foire@bradeur.fr
DTSTAMP:20260425T180227Z
DTSTART:20260419T090000
DTEND:20260419T170000
SUMMARY:de Wimereux — Foire
DESCRIPTION:Dimanche 19 Avril 2026\nde 9h00 à 17h00\n\nde Wimereux\n62930 
 Wimereux
LOCATION:62930 Wimereux
URL:https://bradeur.fr/braderie.php?slug=de-wimereux-foire
END:VEVENT
END:VCALENDAR
