BEGIN:VCALENDAR
VERSION:2.0
PRODID:-//Bradeur.fr//FR
CALSCALE:GREGORIAN
METHOD:PUBLISH
BEGIN:VEVENT
UID:671-des-aines-brocante@bradeur.fr
DTSTAMP:20260425T204642Z
DTSTART:20260412T070000
DTEND:20260412T180000
SUMMARY:des Ainés — Brocante
DESCRIPTION:Dimanche 12 Avril 2026\nde 7h00 à 18h00\n\ndes Ainés\n62162 V
 ieille Eglise
LOCATION:62162 Vieille Eglise
URL:https://bradeur.fr/braderie.php?slug=des-aines-brocante
END:VEVENT
END:VCALENDAR
