BEGIN:VCALENDAR
VERSION:2.0
PRODID:-//Bradeur.fr//FR
CALSCALE:GREGORIAN
METHOD:PUBLISH
BEGIN:VEVENT
UID:1121-des-collectionneurs-calonnois-bourse-collections@bradeur.fr
DTSTAMP:20260425T180344Z
DTSTART:20261025T080000
DTEND:20261025T170000
SUMMARY:des Collectionneurs Calonnois — Bourse Collections
DESCRIPTION:Dimanche 25 Octobre 2026\nde 8h00 à 17h00\n\ndes Collectionneu
 rs Calonnois\n62470 Calonne Ricouart
LOCATION:62470 Calonne Ricouart
URL:https://bradeur.fr/braderie.php?slug=des-collectionneurs-calonnois-bour
 se-collections
END:VEVENT
END:VCALENDAR
