BEGIN:VCALENDAR
VERSION:2.0
PRODID:-//Bradeur.fr//FR
CALSCALE:GREGORIAN
METHOD:PUBLISH
BEGIN:VEVENT
UID:792-des-cousinzins-vide-greniers@bradeur.fr
DTSTAMP:20260425T235301Z
DTSTART:20260503T080000
DTEND:20260503T150000
SUMMARY:des Cousinzins — Vide-greniers
DESCRIPTION:Dimanche 3 Mai 2026\nde 8h00 à 15h00\n\ndes Cousinzins\n59650 
 Villeneuve D'ascq
LOCATION:59650 Villeneuve D'ascq
URL:https://bradeur.fr/braderie.php?slug=des-cousinzins-vide-greniers
END:VEVENT
END:VCALENDAR
