BEGIN:VCALENDAR
VERSION:2.0
PRODID:-//Bradeur.fr//FR
CALSCALE:GREGORIAN
METHOD:PUBLISH
BEGIN:VEVENT
UID:1094-des-fete-de-samer-brocante@bradeur.fr
DTSTAMP:20260425T180717Z
DTSTART:20260927T080000
DTEND:20260927T170000
SUMMARY:des Fête de Samer — Brocante
DESCRIPTION:Dimanche 27 Septembre 2026\nde 8h00 à 17h00\n\ndes Fête de Sa
 mer\n62830 Samer
LOCATION:62830 Samer
URL:https://bradeur.fr/braderie.php?slug=des-fete-de-samer-brocante
END:VEVENT
END:VCALENDAR
