BEGIN:VCALENDAR
VERSION:2.0
PRODID:-//Bradeur.fr//FR
CALSCALE:GREGORIAN
METHOD:PUBLISH
BEGIN:VEVENT
UID:884-des-fetes-braderie@bradeur.fr
DTSTAMP:20260425T193647Z
DTSTART:20260523T100000
DTEND:20260523T200000
SUMMARY:des Fètes — Braderie
DESCRIPTION:Samedi 23 Mai 2026\nde 10h00 à 20h00\n\ndes Fètes\n62700 Brua
 y La Buissière
LOCATION:62700 Bruay La Buissière
URL:https://bradeur.fr/braderie.php?slug=des-fetes-braderie
END:VEVENT
END:VCALENDAR
