BEGIN:VCALENDAR
VERSION:2.0
PRODID:-//Bradeur.fr//FR
CALSCALE:GREGORIAN
METHOD:PUBLISH
BEGIN:VEVENT
UID:617-des-fetes-brocante@bradeur.fr
DTSTAMP:20260425T204737Z
DTSTART:20260405T060000
DTEND:20260405T170000
SUMMARY:des Fetes — Brocante
DESCRIPTION:Dimanche 5 Avril 2026\nde 6h00 à 17h00\n\ndes Fetes\n62120 Air
 e Sur La Lys
LOCATION:62120 Aire Sur La Lys
URL:https://bradeur.fr/braderie.php?slug=des-fetes-brocante
END:VEVENT
END:VCALENDAR
