BEGIN:VCALENDAR
VERSION:2.0
PRODID:-//Bradeur.fr//FR
CALSCALE:GREGORIAN
METHOD:PUBLISH
BEGIN:VEVENT
UID:753-des-fetes-brocante-1@bradeur.fr
DTSTAMP:20260425T235301Z
DTSTART:20260426T073000
DTEND:20260426T170000
SUMMARY:des Fêtes — Brocante
DESCRIPTION:Dimanche 26 Avril 2026\nde 7h30 à 17h00\n\ndes Fêtes\n62850 E
 scuilles
LOCATION:62850 Escuilles
URL:https://bradeur.fr/braderie.php?slug=des-fetes-brocante-1
END:VEVENT
END:VCALENDAR
