BEGIN:VCALENDAR
VERSION:2.0
PRODID:-//Bradeur.fr//FR
CALSCALE:GREGORIAN
METHOD:PUBLISH
BEGIN:VEVENT
UID:1013-des-fetes-brocante-6@bradeur.fr
DTSTAMP:20260426T032312Z
DTSTART:20260718T070000
DTEND:20260718T130000
SUMMARY:des Fêtes — Brocante
DESCRIPTION:Samedi 18 Juillet 2026\nde 7h00 à 13h00\n\ndes Fêtes\n59270 B
 ailleul
LOCATION:59270 Bailleul
URL:https://bradeur.fr/braderie.php?slug=des-fetes-brocante-6
END:VEVENT
END:VCALENDAR
