BEGIN:VCALENDAR
VERSION:2.0
PRODID:-//Bradeur.fr//FR
CALSCALE:GREGORIAN
METHOD:PUBLISH
BEGIN:VEVENT
UID:1014-des-fetes-brocante-7@bradeur.fr
DTSTAMP:20260426T022255Z
DTSTART:20260718T080000
DTEND:20260718T180000
SUMMARY:des Fêtes — Brocante
DESCRIPTION:Samedi 18 Juillet 2026\nde 8h00 à 18h00\n\ndes Fêtes\n62370 N
 ouvelle Eglise
LOCATION:62370 Nouvelle Eglise
URL:https://bradeur.fr/braderie.php?slug=des-fetes-brocante-7
END:VEVENT
END:VCALENDAR
