BEGIN:VCALENDAR
VERSION:2.0
PRODID:-//Bradeur.fr//FR
CALSCALE:GREGORIAN
METHOD:PUBLISH
BEGIN:VEVENT
UID:878-des-fetes-de-ferques-vide-greniers@bradeur.fr
DTSTAMP:20260425T235137Z
DTSTART:20260517T080000
DTEND:20260517T180000
SUMMARY:des Fêtes de Ferques — Vide-greniers
DESCRIPTION:Dimanche 17 Mai 2026\nde 8h00 à 18h00\n\ndes Fêtes de Ferques
 \n62250 Ferques
LOCATION:62250 Ferques
URL:https://bradeur.fr/braderie.php?slug=des-fetes-de-ferques-vide-greniers
END:VEVENT
END:VCALENDAR
