BEGIN:VCALENDAR
VERSION:2.0
PRODID:-//Bradeur.fr//FR
CALSCALE:GREGORIAN
METHOD:PUBLISH
BEGIN:VEVENT
UID:649-des-fetes-puces@bradeur.fr
DTSTAMP:20260425T204413Z
DTSTART:20260411T083000
DTEND:20260411T170000
SUMMARY:des fêtes — Puces
DESCRIPTION:Samedi 11 Avril 2026\nde 8h30 à 17h00\n\ndes fêtes\n62218 Loi
 son Sous Lens
LOCATION:62218 Loison Sous Lens
URL:https://bradeur.fr/braderie.php?slug=des-fetes-puces
END:VEVENT
END:VCALENDAR
