BEGIN:VCALENDAR
VERSION:2.0
PRODID:-//Bradeur.fr//FR
CALSCALE:GREGORIAN
METHOD:PUBLISH
BEGIN:VEVENT
UID:947-des-fetes-vide-greniers-1@bradeur.fr
DTSTAMP:20260425T225555Z
DTSTART:20260613T070000
DTEND:20260613T160000
SUMMARY:des Fêtes — Vide-greniers
DESCRIPTION:Samedi 13 Juin 2026\nde 7h00 à 16h00\n\ndes Fêtes\n59320 Hall
 ennes Lez Haubourdin
LOCATION:59320 Hallennes Lez Haubourdin
URL:https://bradeur.fr/braderie.php?slug=des-fetes-vide-greniers-1
END:VEVENT
END:VCALENDAR
