BEGIN:VCALENDAR
VERSION:2.0
PRODID:-//Bradeur.fr//FR
CALSCALE:GREGORIAN
METHOD:PUBLISH
BEGIN:VEVENT
UID:1012-des-fetes-wijtschate-puces@bradeur.fr
DTSTAMP:20260426T032200Z
DTSTART:20260712T060000
DTEND:20260712T180000
SUMMARY:des fêtes Wijtschate — Puces
DESCRIPTION:Dimanche 12 Juillet 2026\nde 6h00 à 18h00\n\ndes fêtes Wijtsc
 hate\nWijtschate
LOCATION:Wijtschate
URL:https://bradeur.fr/braderie.php?slug=des-fetes-wijtschate-puces
END:VEVENT
END:VCALENDAR
