BEGIN:VCALENDAR
VERSION:2.0
PRODID:-//Bradeur.fr//FR
CALSCALE:GREGORIAN
METHOD:PUBLISH
BEGIN:VEVENT
UID:641-dive-plan-france-puces@bradeur.fr
DTSTAMP:20260425T204905Z
DTSTART:20260411T080000
DTEND:20260411T160000
SUMMARY:DIve Plan France — Puces
DESCRIPTION:Samedi 11 Avril 2026\nde 8h00 à 16h00\n\nDIve Plan France\n621
 38 Billy Berclau
LOCATION:62138 Billy Berclau
URL:https://bradeur.fr/braderie.php?slug=dive-plan-france-puces
END:VEVENT
END:VCALENDAR
