BEGIN:VCALENDAR
VERSION:2.0
PRODID:-//Bradeur.fr//FR
CALSCALE:GREGORIAN
METHOD:PUBLISH
BEGIN:VEVENT
UID:758-du-bon-poste-vide-greniers@bradeur.fr
DTSTAMP:20260425T173517Z
DTSTART:20260501T070000
DTEND:20260501T150000
SUMMARY:du bon poste — Vide-greniers
DESCRIPTION:Vendredi 1 Mai 2026\nde 7h00 à 15h00\n\ndu bon poste\n59390 Ly
 s Lez Lannoy
LOCATION:59390 Lys Lez Lannoy
URL:https://bradeur.fr/braderie.php?slug=du-bon-poste-vide-greniers
END:VEVENT
END:VCALENDAR
