BEGIN:VCALENDAR
VERSION:2.0
PRODID:-//Bradeur.fr//FR
CALSCALE:GREGORIAN
METHOD:PUBLISH
BEGIN:VEVENT
UID:1131-du-nord-numis-club-du-nord-numismatique@bradeur.fr
DTSTAMP:20260425T180846Z
DTSTART:20261108T081500
DTEND:20261108T161500
SUMMARY:du Nord — Numis Club Du Nord Numismatique
DESCRIPTION:Dimanche 8 Novembre 2026\nde 8h15 à 16h15\n\ndu Nord\n59000 Li
 lle
LOCATION:59000 Lille
URL:https://bradeur.fr/braderie.php?slug=du-nord-numis-club-du-nord-numisma
 tique
END:VEVENT
END:VCALENDAR
