BEGIN:VCALENDAR
VERSION:2.0
PRODID:-//Bradeur.fr//FR
CALSCALE:GREGORIAN
METHOD:PUBLISH
BEGIN:VEVENT
UID:698-du-personnel-communal-puces@bradeur.fr
DTSTAMP:20260425T235441Z
DTSTART:20260418T080000
DTEND:20260419T150000
SUMMARY:du personnel communal — Puces
DESCRIPTION:Samedi 18 Avril 2026\nde 8h00 à 15h00\n\nDimanche 19 Avril 202
 6\nde 8h00 à 15h00\n\ndu personnel communal\n62410 Wingles
LOCATION:62410 Wingles
URL:https://bradeur.fr/braderie.php?slug=du-personnel-communal-puces
END:VEVENT
END:VCALENDAR
