BEGIN:VCALENDAR
VERSION:2.0
PRODID:-//Bradeur.fr//FR
CALSCALE:GREGORIAN
METHOD:PUBLISH
BEGIN:VEVENT
UID:679-du-personnel-leclerc-puces@bradeur.fr
DTSTAMP:20260425T204916Z
DTSTART:20260412T080000
DTEND:20260412T160000
SUMMARY:du personnel Leclerc — Puces
DESCRIPTION:Dimanche 12 Avril 2026\nde 8h00 à 16h00\n\ndu personnel Lecler
 c\n62218 Loison Sous Lens
LOCATION:62218 Loison Sous Lens
URL:https://bradeur.fr/braderie.php?slug=du-personnel-leclerc-puces
END:VEVENT
END:VCALENDAR
