BEGIN:VCALENDAR
VERSION:2.0
PRODID:-//Bradeur.fr//FR
CALSCALE:GREGORIAN
METHOD:PUBLISH
BEGIN:VEVENT
UID:964-du-personnel-leclerc-puces-1@bradeur.fr
DTSTAMP:20260426T022504Z
DTSTART:20260614T080000
DTEND:20260614T160000
SUMMARY:du personnel Leclerc — Puces
DESCRIPTION:Dimanche 14 Juin 2026\nde 8h00 à 16h00\n\ndu personnel Leclerc
 \n62218 Loison Sous Lens
LOCATION:62218 Loison Sous Lens
URL:https://bradeur.fr/braderie.php?slug=du-personnel-leclerc-puces-1
END:VEVENT
END:VCALENDAR
