BEGIN:VCALENDAR
VERSION:2.0
PRODID:-//Bradeur.fr//FR
CALSCALE:GREGORIAN
METHOD:PUBLISH
BEGIN:VEVENT
UID:1082-du-personnel-leclerc-puces-2@bradeur.fr
DTSTAMP:20260425T221130Z
DTSTART:20260920T080000
DTEND:20260920T160000
SUMMARY:du personnel Leclerc — Puces
DESCRIPTION:Dimanche 20 Septembre 2026\nde 8h00 à 16h00\n\ndu personnel Le
 clerc\n62218 Loison Sous Lens
LOCATION:62218 Loison Sous Lens
URL:https://bradeur.fr/braderie.php?slug=du-personnel-leclerc-puces-2
END:VEVENT
END:VCALENDAR
