BEGIN:VCALENDAR
VERSION:2.0
PRODID:-//Bradeur.fr//FR
CALSCALE:GREGORIAN
METHOD:PUBLISH
BEGIN:VEVENT
UID:664-du-quartier-brocante@bradeur.fr
DTSTAMP:20260425T204343Z
DTSTART:20260412T080000
DTEND:20260412T180000
SUMMARY:du quartier — Brocante
DESCRIPTION:Dimanche 12 Avril 2026\nde 8h00 à 18h00\n\ndu quartier\n59450 
 Sin Le Noble
LOCATION:59450 Sin Le Noble
URL:https://bradeur.fr/braderie.php?slug=du-quartier-brocante
END:VEVENT
END:VCALENDAR
