BEGIN:VCALENDAR
VERSION:2.0
PRODID:-//Bradeur.fr//FR
CALSCALE:GREGORIAN
METHOD:PUBLISH
BEGIN:VEVENT
UID:562-eja-vide-greniers@bradeur.fr
DTSTAMP:20260425T175836Z
DTSTART:20260329T070000
DTEND:20260329T130000
SUMMARY:EJA — Vide-greniers
DESCRIPTION:Actualités\n\n&nbsp;&nbsp;&nbsp;&nbsp;&nbsp;&nbsp;\n\nDécouvr
 ezles actus à la une !\n\n{loadmoduleid 690}\n\n{loadmoduleid 801}\n\nVoir
  toutes les actualit\n\nDimanche 29 Mars 2026\nde 7h00 à 13h00\n\nEJA\n597
 00 Marcq En Baroeul
LOCATION:59700 Marcq En Baroeul
URL:https://bradeur.fr/braderie.php?slug=eja-vide-greniers
END:VEVENT
END:VCALENDAR
