BEGIN:VCALENDAR
VERSION:2.0
PRODID:-//Bradeur.fr//FR
CALSCALE:GREGORIAN
METHOD:PUBLISH
BEGIN:VEVENT
UID:958-en-famille-pour-faumont-vide-greniers@bradeur.fr
DTSTAMP:20260425T210314Z
DTSTART:20260614T080000
DTEND:20260614T140000
SUMMARY:En Famille pour Faumont — Vide-greniers
DESCRIPTION:Dimanche 14 Juin 2026\nde 8h00 à 14h00\n\nEn Famille pour Faum
 ont\n59310 Faumont
LOCATION:59310 Faumont
URL:https://bradeur.fr/braderie.php?slug=en-famille-pour-faumont-vide-greni
 ers
END:VEVENT
END:VCALENDAR
