BEGIN:VCALENDAR
VERSION:2.0
PRODID:-//Bradeur.fr//FR
CALSCALE:GREGORIAN
METHOD:PUBLISH
BEGIN:VEVENT
UID:681-entente-cordiale-auxi-brocante@bradeur.fr
DTSTAMP:20260425T205518Z
DTSTART:20260412T080000
DTEND:20260412T170000
SUMMARY:Entente Cordiale Auxi — Brocante
DESCRIPTION:Dimanche 12 Avril 2026\nde 8h00 à 17h00\n\nEntente Cordiale Au
 xi\n62390 Auxi Le Chateau
LOCATION:62390 Auxi Le Chateau
URL:https://bradeur.fr/braderie.php?slug=entente-cordiale-auxi-brocante
END:VEVENT
END:VCALENDAR
