BEGIN:VCALENDAR
VERSION:2.0
PRODID:-//Bradeur.fr//FR
CALSCALE:GREGORIAN
METHOD:PUBLISH
BEGIN:VEVENT
UID:995-entente-sportive-douvrinoise-puces@bradeur.fr
DTSTAMP:20260426T022620Z
DTSTART:20260704T080000
DTEND:20260704T170000
SUMMARY:Entente Sportive Douvrinoise — Puces
DESCRIPTION:Accès rapide Restaurant scolaire Cinéma Photos Centres de Loi
 sirs My Perischool Borne à selfie Démarches en ligne Location de salles A
 utorisation d’Urbanisme Carte d’identité / Passeport Réservation Cant
 ine Recensement Citoyen Inscription listes électorales Location de salles 
 Carte d’identité / Passeport Autorisation d’Urbanisme Réservation Can
 tine Recensement Citoyen Inscription listes électorale
LOCATION:62138 Douvrin
URL:https://bradeur.fr/braderie.php?slug=entente-sportive-douvrinoise-puces
END:VEVENT
END:VCALENDAR
