BEGIN:VCALENDAR
VERSION:2.0
PRODID:-//Bradeur.fr//FR
CALSCALE:GREGORIAN
METHOD:PUBLISH
BEGIN:VEVENT
UID:694-es-haisnes-puces@bradeur.fr
DTSTAMP:20260425T204359Z
DTSTART:20260418T090000
DTEND:20260501T160000
SUMMARY:Es Haisnes — Puces
DESCRIPTION:Samedi 18 Avril 2026\nde 9h00 à 16h00\n\nDimanche 19 Avril 202
 6\nde 9h00 à 16h00\n\nEs Haisnes\n62138 Haisnes
LOCATION:62138 Haisnes
URL:https://bradeur.fr/braderie.php?slug=es-haisnes-puces
END:VEVENT
END:VCALENDAR
