BEGIN:VCALENDAR
VERSION:2.0
PRODID:-//Bradeur.fr//FR
CALSCALE:GREGORIAN
METHOD:PUBLISH
BEGIN:VEVENT
UID:1054-esh-espoir-sportif-haillicourt-puces-1@bradeur.fr
DTSTAMP:20260425T210355Z
DTSTART:20260823T080000
DTEND:20260823T180000
SUMMARY:ESH Espoir Sportif Haillicourt — Puces
DESCRIPTION:Bienvenue sur le site officiel du club ES . HAILLICOURT. Retrou
 vez toute l'actualité, le calendrier et les résultats des équipes, ainsi
  que toute la vie du club.\n\nDimanche 23 Août 2026\nde 8h00 à 18h00\n\nE
 SH Espoir Sportif Haillicourt\n62940 Haillicourt
LOCATION:62940 Haillicourt
URL:https://bradeur.fr/braderie.php?slug=esh-espoir-sportif-haillicourt-puc
 es-1
END:VEVENT
END:VCALENDAR
