BEGIN:VCALENDAR
VERSION:2.0
PRODID:-//Bradeur.fr//FR
CALSCALE:GREGORIAN
METHOD:PUBLISH
BEGIN:VEVENT
UID:492-etoile-ballet-comedie-puces@bradeur.fr
DTSTAMP:20260425T180226Z
DTSTART:20260314T080000
DTEND:20260314T170000
SUMMARY:Étoile Ballet Comédie — Puces
DESCRIPTION:Des émotions à vivre et à danser.\n\nSamedi 14 Mars 2026\nde
  8h00 à 17h00\n\nÉtoile Ballet Comédie\n62210 Avion
LOCATION:62210 Avion
URL:https://bradeur.fr/braderie.php?slug=etoile-ballet-comedie-puces
END:VEVENT
END:VCALENDAR
